BEGIN:VCALENDAR
VERSION:2.0
PRODID:-//Rawpowerlifting - ECPv4.9.11//NONSGML v1.0//EN
CALSCALE:GREGORIAN
METHOD:PUBLISH
X-WR-CALNAME:Rawpowerlifting
X-ORIGINAL-URL:https://rawpowerlifting.com.ua
X-WR-CALDESC:Events for Rawpowerlifting
BEGIN:VTIMEZONE
TZID:Europe/Kiev
BEGIN:DAYLIGHT
TZOFFSETFROM:+0200
TZOFFSETTO:+0300
TZNAME:EEST
DTSTART:20170326T010000
END:DAYLIGHT
BEGIN:STANDARD
TZOFFSETFROM:+0300
TZOFFSETTO:+0200
TZNAME:EET
DTSTART:20171029T010000
END:STANDARD
END:VTIMEZONE
BEGIN:VEVENT
DTSTART;VALUE=DATE:20170319
DTEND;VALUE=DATE:20170320
DTSTAMP:20260422T113920
CREATED:20161221T095928Z
LAST-MODIFIED:20170108T073625Z
UID:12577-1489881600-1489967999@rawpowerlifting.com.ua
SUMMARY:Чемпионат Николаевской области по подъему на бицепс\, становой тяге и жиму лежа
DESCRIPTION: \n
URL:https://rawpowerlifting.com.ua/event/chempionat-nikolaevskoj-oblasti-po-podemu-na-biceps-stanovoj-tyage-i-zhimu-lezha/
LOCATION:площа Суднобудівників\, 3\, Миколаїв\, Николаев\, 54000\, Украина
ATTACH;FMTTYPE=image/jpeg:https://rawpowerlifting.com.ua/wp-content/uploads/19-2017.jpg
END:VEVENT
END:VCALENDAR