BEGIN:VCALENDAR
VERSION:2.0
PRODID:-//Rawpowerlifting - ECPv4.9.11//NONSGML v1.0//EN
CALSCALE:GREGORIAN
METHOD:PUBLISH
X-WR-CALNAME:Rawpowerlifting
X-ORIGINAL-URL:https://rawpowerlifting.com.ua
X-WR-CALDESC:Events for Rawpowerlifting
BEGIN:VTIMEZONE
TZID:Europe/Kiev
BEGIN:DAYLIGHT
TZOFFSETFROM:+0200
TZOFFSETTO:+0300
TZNAME:EEST
DTSTART:20180325T010000
END:DAYLIGHT
BEGIN:STANDARD
TZOFFSETFROM:+0300
TZOFFSETTO:+0200
TZNAME:EET
DTSTART:20181028T010000
END:STANDARD
END:VTIMEZONE
BEGIN:VEVENT
DTSTART;VALUE=DATE:20180617
DTEND;VALUE=DATE:20180618
DTSTAMP:20260423T101422
CREATED:20180122T161152Z
LAST-MODIFIED:20180514T103139Z
UID:14189-1529193600-1529279999@rawpowerlifting.com.ua
SUMMARY:Кубок Украины по жиму лежа
DESCRIPTION:[vc_row][vc_column width=”1/2″][button size=”xlarge_rd_bt” url=”https://rawpowerlifting.com.ua/priem-zayavok/” position=”ta_center”]Подать заявку[/button][/vc_column][vc_column width=”1/2″][button size=”xlarge_rd_bt” url=”https://rawpowerlifting.com.ua/wp-content/uploads/Raw-100-%D0%BF%D0%BE%D0%BB%D0%BE%D0%B6%D0%B5%D0%BD%D0%B8-17-%D0%B8%D1%8E%D0%BD%D1%8F-%D0%9A%D1%83%D0%B1%D0%BE%D0%BA-%D0%96%D0%B8%D0%BC_%D0%A3%D0%BA%D1%80%D0%B0%D0%B8%D0%BD%D0%B0-2018.pdf” target=”yes” position=”ta_center”]Положение[/button][/vc_column][/vc_row][vc_row][vc_column][vc_column_text]Дисциплина: жим лежа[/vc_column_text][/vc_column][/vc_row] \n
URL:https://rawpowerlifting.com.ua/event/kubok-ukrainy-po-zhimu-lezha/
LOCATION:Одесса\, Одесса\, Одесса\, Украина
ATTACH;FMTTYPE=image/jpeg:https://rawpowerlifting.com.ua/wp-content/uploads/0-02-05-f804ddd2a3f37c583b2142b926b963e9b0e781d3262aff69115638401c2ca1ac_full.jpg
END:VEVENT
END:VCALENDAR